BEGIN:VCALENDAR
VERSION:2.0
PRODID:-//Magyar Fundraising Akadémia - ECPv6.6.4//NONSGML v1.0//EN
CALSCALE:GREGORIAN
METHOD:PUBLISH
X-ORIGINAL-URL:https://fundraisingakademia.hu
X-WR-CALDESC:Events for Magyar Fundraising Akadémia
REFRESH-INTERVAL;VALUE=DURATION:PT1H
X-Robots-Tag:noindex
X-PUBLISHED-TTL:PT1H
BEGIN:VTIMEZONE
TZID:Europe/Budapest
BEGIN:DAYLIGHT
TZOFFSETFROM:+0100
TZOFFSETTO:+0200
TZNAME:CEST
DTSTART:20170326T010000
END:DAYLIGHT
BEGIN:STANDARD
TZOFFSETFROM:+0200
TZOFFSETTO:+0100
TZNAME:CET
DTSTART:20171029T010000
END:STANDARD
BEGIN:DAYLIGHT
TZOFFSETFROM:+0100
TZOFFSETTO:+0200
TZNAME:CEST
DTSTART:20180325T010000
END:DAYLIGHT
BEGIN:STANDARD
TZOFFSETFROM:+0200
TZOFFSETTO:+0100
TZNAME:CET
DTSTART:20181028T010000
END:STANDARD
BEGIN:DAYLIGHT
TZOFFSETFROM:+0100
TZOFFSETTO:+0200
TZNAME:CEST
DTSTART:20190331T010000
END:DAYLIGHT
BEGIN:STANDARD
TZOFFSETFROM:+0200
TZOFFSETTO:+0100
TZNAME:CET
DTSTART:20191027T010000
END:STANDARD
END:VTIMEZONE
BEGIN:VEVENT
DTSTART;TZID=Europe/Budapest:20191010T163000
DTEND;TZID=Europe/Budapest:20191010T203000
DTSTAMP:20260421T134615
CREATED:20191107T070947Z
LAST-MODIFIED:20200710T104127Z
UID:1046-1570725000-1570739400@fundraisingakademia.hu
SUMMARY:Szja 1%: kevesebben adtak többet 2019-ben. Siker vagy sem?
DESCRIPTION:A jó hír az\, hogy a NAV friss kimutatásai szerint idén nőtt az szja 1%-okból a civilekhez befolyó összeg. A rossz hír az\, hogy sokkal kevesebben rendelkeztek adójuk 1%-áról\, mint tavaly. Nézzünk a számok mögé együtt október 10-én! \n\n\n\nIdén 1\,69 millió magánszemély rendelkezett a civil 1%-ról\, ez 100 ezer fővel kevesebb\, mint 1 éve. Tavaly 8\,25 milliárd forint került a nonprofit szervezetekhez\, idén viszont 8\,77 milliárd. Átlagban 5 ezer forintról rendelkeztek az adózók. \n\n\n\nMost akkor ez siker vagy sem?\n\n\n\nMi azt látjuk\, van még hová fejlődni! A civil szervezetek összességében jól kampányoltak\, de mégis\, most rajtuk a sor: miként „mozgatják meg” azt a százezer adózót\, aki eltűnt az 1% felajánlások mögül.  \n\n\n\nA Magyar Fundraising Akadémia aktuális 1% workshopján részletesen elemezzük az adatokat és folyamatokat\, bemutatunk jó kampánygyakorlatokat\, tippeket adunk a sikeres 1%-os kampányokhoz! \n\n\n\nKikkel találkozhatsz?\n\n\n\nA téma szakértőit\, a civil szféra aktív szereplőit\, valamint kommunikációs szakembereket szólaltatunk meg. Ők osztják meg tapasztalataikat a civil finanszírozás e fontos területéről!
URL:https://fundraisingakademia.hu/esemeny/szja-1-kevesebben-adtak-tobbet-2019-ben-siker-vagy-sem/
LOCATION:CEU\, Nádor utca 9.\, Budapest\, Budapest\, 1051\, Magyarország
ATTACH;FMTTYPE=image/jpeg:https://fundraisingakademia.hu/wp-content/uploads/2019/11/2019_CEU34-scaled.jpg
ORGANIZER;CN="Magyar Fundraising Akad%C3%A9mia":MAILTO:info@fundraisingakademia.hu
END:VEVENT
BEGIN:VEVENT
DTSTART;TZID=Europe/Budapest:20190327T090000
DTEND;TZID=Europe/Budapest:20190327T123000
DTSTAMP:20260421T134615
CREATED:20190327T142400Z
LAST-MODIFIED:20200710T104339Z
UID:1668-1553677200-1553689800@fundraisingakademia.hu
SUMMARY:HAJRÁ 1%! Tájékoztató civil szervezeteknek - 2019
DESCRIPTION:Civil szervezeti munkatársként bizonyára foglalkoztatja Önt\, hogy a  2017 óta működő e-szja rendszer mennyiben befolyásolja közel 5 millió  adófizető felajánlási hajlandóságát.  \n\n\n\nRendezvényünk célja\, hogy az elmúlt két év tapasztalatait  összegezve és az új változásokra felkészülve információkkal és  válaszokkal segítsük Önt és civil szervezetét abban\, hogy felajánlói ne  ütközzenek technikai akadályba a felajánlás során\, és hogy így minél  több állampolgár rendelkezhessen szja 1%-áról.  \n\n\n\nAz esemény programja \n\n\n\n09:00-09:30 Regisztráció09:30-09:50Arccal a cégkapu felé\, az elektronikus ügyintézés fontosságaElőadó: Varga-Biller Katalin igazgatóhelyettes\, NAV9:50-10:30 e-SZJA vs. 1+1% – tapasztalatok és felajánlói motivációkElőadók: Miha Tamás\, az MFA szakmai vezetője és Dömötör Károly\, az MFA kutatási vezetője10:30-11:10SZJA 1+1% mire számítsunk 2019-benElőadó: Czenki Péter főosztályvezető-helyettes\, NAV11:10-12:30Fórum az szja 1%-ról\n\n\n\n Jelenlévő szakértőinktől kérdezhetnek az szja 1% felajánlásáról. Az esemény ingyenes\, de regisztrációhoz kötött. Jelentkezési határidő: március 25.
URL:https://fundraisingakademia.hu/esemeny/hajra-1-tajekoztato-civil-szervezeteknek/
LOCATION:NAV Észak-budapesti Adó- és Vámigazgatósága\, Dózsa György út 128-132.\, Budapest\, Budapest\, 1134\, Magyarország
ATTACH;FMTTYPE=image/jpeg:https://fundraisingakademia.hu/wp-content/uploads/2019/03/IMG_20190327_105855-scaled.jpg
ORGANIZER;CN="Magyar Fundraising Akad%C3%A9mia":MAILTO:info@fundraisingakademia.hu
END:VEVENT
BEGIN:VEVENT
DTSTART;TZID=Europe/Budapest:20190221T163000
DTEND;TZID=Europe/Budapest:20190530T203000
DTSTAMP:20260421T134615
CREATED:20190221T143100Z
LAST-MODIFIED:20200710T105033Z
UID:1670-1550766600-1559248200@fundraisingakademia.hu
SUMMARY:Professzionális adománygyűjtés és civil kommunikáció 2019
DESCRIPTION:Nincs Magyarországon professzionális fundraiserképzés?\n\n\n\nMost már van! 13 alkalmas kommunikációs és forrásteremtő \nképzésünkön a hazai fundraising szakma elismert és sikeres szereplői \nosztják meg veled tudásukat és gyakorlati tapasztalataikat a \nmárkaépítéstől a jól működő forrásteremtési lehetőségek bemutatásán át a\n kampánytervezésig. \n\n\n\nA képzésen a fundraising átfogó ismertetésétől a brandépítésen \nés szövegíráson át eljutunk a kampánytervezésig. Hogyan lehet a \nmarketing eszközöket jól alkalmazni a forrásteremtő munkában? Miért \nfontos az online és offline csatornák integrált használata? Milyen \negyüttműködési javaslatokkal érdemes megkeresni a cégeket? Többek között\n ezeket a kérdéseket is körüljárjuk a 13 alkalmas képzésen. \n\n\n\nA képzés nyitott bármely korosztály felé\, nem feltétel a releváns tapasztalat és a jelenleg betöltött munkakör sem. \n\n\n\nA képzés menete\n\n\n\nA 13 alkalom során hetente egy alkalommal várjuk a résztvevőket.\n Az előadások és a kiscsoportos szemináriumok magyar nyelvűek. A képzés \nelvégzéséről az kap igazoló tanúsítványt\, aki legalább 10 alkalommal \njelen volt\, a feladatok legalább 90 százalékát teljesítette\, valamint a \nképzést záró tudáspróbán legalább 80%-os eredményt ért el. \n\n\n\nA képzés tématerve: \n\n\n\nMegnyitás\, fundraising alapismeretek\, hazai és nemzetközi trendekCivil jogCivil kommunikáció és arculatfejlesztésA szöveg és a vizuális kommunikáció szerepe a fundraisingbenCivil márkaépítésTelefonmarketing\, utcai adománygyűjtésSzemélyre szabott offline fundraising kommunikáció és adatbázis-építésOnline jelenlét: weboldal\, közösségi médiahasználatOnline kampánytechnikák: leadgenerálás és e-mail marketingAz online fundraising eszköztáraTársadalmi szponzoráció\, céges adománygyűjtés\, kiemelt adományozók I.Társadalmi szponzoráció\, céges adománygyűjtés\, kiemelt adományozók II.Amit az 1%-ról tudni érdemes\n\n\n\nMikor és hol lesz a képzés?\n\n\n\n2019. február 21-től május 30-ig\, csütörtökönként 16:30-tól \n20.30-ig; Budapest belvárosában (a helyszín kiválasztása folyamatban) \n\n\n\nMennyibe kerül?\n\n\n\nAz 50 órás prémium fundraiserképzés ára 290 000 Ft + áfa. \n\n\n\n„Hozz magaddal még egy főt” ajánlatunk keretében\, két fő egyidejű jelentkezése esetén a második jelentkező 50%-os kedvezménnyel\, azaz 145.000 Ft+ áfa áron vehet részt a képzésünkön. \n\n\n\nKérdések merültek fel benned? Igyekszünk megválaszolni őket\n\n\n\nÚgy gondolod\, nem lenne időd rá a munka mellett?  \n\n\n\nA képzés hetente csak 4 óra jelenlétet igényel\, a házi feladatok\n pedig a napi munkádat segítik\, nem pedig attól vesznek el időt\, hiszen \naz éppen aktuális feladataidnál alkalmazhatod a tanultakat. Olyan \ntechnikákat tanulhatsz\, amelyek pár hét alatt beépíthetők a napi \nmunkába\, hatékonyabbá\, gyorsabbá tehetik azt\, ezáltal a képzés nem hogy \nelvesz\, hanem időt szabadít fel számodra. \n\n\n\nAttól tartasz\, nem tudunk újat mondani? \n\n\n\nAz előzetes felmérés során regisztrált igények és kérdések \nmindegyikét érintjük a 13 alkalom alatt\, így arra is választ kapsz\, ami \neredetileg nem volt benne a képzési tervben. Bár a képzés alapvetően a \ngyakorlattal rendelkező fundraisereknek szól\, külön figyelünk a \n„kezdőkre” is\, akiknek előkészítő és szükség esetén kiegészítő \nalkalmakat szervezünk. Trénereink jelentős magyar szervezetek gyakorló \nfundraiserei is egyben\, biztosan sok új érdekes információval bővítik \ntudásodat. \n\n\n\nMagyarországon még nem elég fejlett az adományozási kultúra? Nincs szükség önálló forrásteremtésre? \n\n\n\nEgyre több olyan magyar civilszervezet létezik\, amely a magán- \nés céges adományozók segítségével több lábon áll\, ezáltal független és \npénzügyileg stabil. A több lábon állás feltétele a megfelelő tudás \nmegszerzése\, hiszen az eszközök Magyarországon is rendelkezésre állnak\, \ncsak tudni kell hatékonyan használni őket. A képzésen egy szakmai \nközösség részévé is válhatsz\, együtt fejleszthetitek a hazai \nadományozási kultúrát! \n\n\n\nDrágának tartod a képzést\, úgy gondolod\, nonprofit szervezetként nem engedhetitek meg magatoknak? \n\n\n\nGondolj erre úgy\, mint egy befektetésre! A részvételi díj több \ntízszeresét is előteremtheted a képzésen tanultak alapján\, ha végig \naktív vagy és utána ügyesen alkalmazod a tanultakat. Csak \nösszehasonlításképpen: ez a képzés fele annyiba kerül\, mint egy hasonló \ntematikájú egyetemi mesterszakos félév\, időterhelése vállalható\, \nráadásul minden egyes alkalom a résztvevők igényeihez szabott\, \ngyakorlatias és hasznos.
URL:https://fundraisingakademia.hu/esemeny/professzionalis-adomanygyujtes-es-civil-kommunikacio-2019/
LOCATION:CEU\, Nádor utca 9.\, Budapest\, Budapest\, 1051\, Magyarország
ATTACH;FMTTYPE=image/jpeg:https://fundraisingakademia.hu/wp-content/uploads/2020/05/2019_CEU_Fundraising_May144-scaled.jpg
END:VEVENT
BEGIN:VEVENT
DTSTART;TZID=Europe/Budapest:20181114T090000
DTEND;TZID=Europe/Budapest:20181114T130000
DTSTAMP:20260421T134615
CREATED:20200506T192038Z
LAST-MODIFIED:20200710T105158Z
UID:1875-1542186000-1542200400@fundraisingakademia.hu
SUMMARY:Vevők a cégek az adakozásra? - 2018
DESCRIPTION:Kutatás a magyar vállalatok adományozási gyakorlatáról \n\n\n\nMagyarországon is nő azoknak a vállalatoknak a száma\, ahol az adományozás a CSR stratégia része\, tudatosan építik be vállalati kultúrájukba a jótékonykodást. Kik ők és hogyan kerülhet egy civil szervezet az adakozó kedvű cégek fókuszába? Kit és milyen üzenettel érdemes megkeresni\, amikor céges támogatókat szeretnénk az ügyünk mellé állítani? Akad olyan téma\, ami preferáltan támogatandónak számít a vállalatok körében? Melyek az adományozás fő mozgatórugói egy cégnél?  \n\n\n\nElőadók: Dömötör Károly (Human Dialog\, a kutatási projekt vezetője)\, Steigervald Krisztián (Emocionális Marketing\, ügyvezető\, kutatási szakértő)\, Iván György (Hödlmayr Hungária Logistics Kft.\, ügyvezető)\, Nagygyörgy András (adománygyűjtési munkatárs\, Suhanj! Alapítvány)  \n\n\n\nA workshopra olyan civil érdeklődőket várunk\, akik szeretnék jobban megérteni a magyar vállalati szféra adományozási szokásait és motivációit\, valamint célcsoportra szabottá tenni kommunikációs és adományszervezési tevékenységüket.. \n\n\nRészvételi díj: 3500 Ft \nAz eseményen az alábbi kedvezményes részvételi lehetőségeket biztosítjuk: \nEarly bird kedvezménnyel: 3000 Ft \n2018.11.07-ig történő jelentkezés esetén. \nMFA tagsági early bird kedvezménnyel: 2500 Ft \nMFA tagok számára 2018.11.07-ig történő jelentkezés esetén. MFA tagsági kedvezménnyel legalább 3 MFA által szervezett képzésen való részvétel/jelentkezés esetén igényelhető. \nMFA tagsági kedvezménnyel: 3000 Ft \nMFA tagsági kedvezménnyel legalább 3 MFA által szervezett képzésen való részvétel/jelentkezés esetén igényelhető.
URL:https://fundraisingakademia.hu/esemeny/vevok-a-cegek-az-adakozasra/
LOCATION:CEU\, Nádor utca 9.\, Budapest\, Budapest\, 1051\, Magyarország
ATTACH;FMTTYPE=image/jpeg:https://fundraisingakademia.hu/wp-content/uploads/2020/05/2019_CEU38-scaled.jpg
ORGANIZER;CN="Magyar Fundraising Akad%C3%A9mia":MAILTO:info@fundraisingakademia.hu
END:VEVENT
BEGIN:VEVENT
DTSTART;TZID=Europe/Budapest:20181004T090000
DTEND;TZID=Europe/Budapest:20181004T130000
DTSTAMP:20260421T134615
CREATED:20200506T194235Z
LAST-MODIFIED:20200710T105517Z
UID:1878-1538643600-1538658000@fundraisingakademia.hu
SUMMARY:Mennyit ér a civil 1%? – Szja 1% kampányértékelő workshop - 2018
DESCRIPTION:Kutatás a magyar vállalatok adományozási gyakorlatáról \n\n\n\nMennyit ér a civil 1%? – Szja 1% kampányértékelő workshop2018. október 4.\, CEU  \n\n\n\nElőadók: Czenki Péter (szja 1% szakértő)\, Dömötör Károly (online marketing szakértő)\, Gandera Balázs (Intren ügyvezető\, online marketing szakértő)\, Miha Tamás (civil kommunikációs szakértő)\, Magyar Zsuzsa (adományszervezési vezető\, Piros Orr Bohócdoktorok Alapítvány)  \n\n\n\n21 éves sikertörténet a civil szféra támogatására elsőként Magyarországon bevezetett szja 1% felajánlás. Az e-szja 2017-es indulása kardinális változásokat hozott\, a felajánlások arányának és értékének visszaesését okozva\, idén pedig a munkáltatói adóbevallás szerepét is átvette a NAV. Vajon mi a siker kulcsa a folyamatosan változó szabályozás közepette\, amikor a megszokott 1% gyűjtési gyakorlatban új kihívásokkal kell szembenézni? Hogyan alakul a civil 1% értéke 2018-ban?  \n\n\n\nOktóber 4-i workshopunkon immár\nhagyományos módon a NAV munkatársával együtt elemezzük a 2018-as rendelkező év eredményeit\, az új e-szja rendszer második évének tapasztalatait. A száraz adatok\, az 1%\nstratégiák és kampányeredmények\, valamint az 1% felajánlási trendek bemutatása\nmellett célunk\, hogy kampányelemzéssel\nés praktikus tanácsokkal segítsük a 2018-as év értékelését\, egyúttal a\n2019-es évadra történő felkészülést.  \n\n\n\nAz eseményre olyan civilszervezetek\nmunkatársait várjuk\, amelyek jogosultak az 1% felajánlások gyűjtésére és\nszeretnék megismerni az előző évek trendjeit\, valamint az új e-szja rendszer működését\,\nhogy még felkészültebben vághassanak\nbele a 2019-es szja 1% kampányszezonba. \n\n\nRészvételi díj \nTeljes ár: 11 900 Ft \nAz eseményen az alábbi kedvezményes részvételi lehetőségeket biztosítjuk: \nMFA tagsági early bird kedvezménnyel: 8900 Ft \nMFA tagok számára 2018.09.24-ig történő jelentkezés esetén. MFA tagsági kedvezménnyel legalább 3 MFA által szervezett képzésen való részvétel/jelentkezés esetén igényelhető. \nEarly bird kedvezménnyel: 9900 Ft  \n2018.09.24-ig történő jelentkezés esetén. \nMFA tagsági kedvezménnyel: 9900 Ft \nMFA tagsági kedvezménnyel legalább 3 MFA által szervezett képzésen való részvétel/jelentkezés esetén igényelhető. \nCsoportos kedvezménnyel: 10 900 Ft \nSzervezetenként legalább 3 fő jelentkezése esetén. \nA kedvezmények nem összevonhatók! Az árak bruttó összegek.
URL:https://fundraisingakademia.hu/esemeny/mennyit-er-a-civil-1-szja-1-kampanyertekelo-workshop/
LOCATION:Central European University\, Nádor utca 13-15.\, Budapest\, 1051\, Magyarország
ATTACH;FMTTYPE=image/jpeg:https://fundraisingakademia.hu/wp-content/uploads/2020/05/MG_2196.jpg
ORGANIZER;CN="Magyar Fundraising Akad%C3%A9mia":MAILTO:info@fundraisingakademia.hu
END:VEVENT
BEGIN:VEVENT
DTSTART;TZID=Europe/Budapest:20180426T093000
DTEND;TZID=Europe/Budapest:20180426T130000
DTSTAMP:20260421T134615
CREATED:20200506T200004Z
LAST-MODIFIED:20200701T071717Z
UID:1882-1524735000-1524747600@fundraisingakademia.hu
SUMMARY:Az adatkezelés nem játék! – GDPR kihívások a civil szervezetek gyakorlatában - 2018
DESCRIPTION:Az önkéntesek\, adományozók személyes adatainak jogszerű kezelése fontos a civil szervezetek és az érintett természetes személyek számára is. Elég\, ha csak az elmúlt hetek eseményeire gondolunk\, melyik közösségi médium hogyan vált adatkezelése miatt egyik napról a másikra komoly támadások kereszttüzébe. Az adatkezelés nem játék\, pláne nem lesz az május 25-e\, az Európai Unió adatvédelmi rendelete (GDPR) hatályba lépése után.  \n\n\n\nItt az idő\,\nhogy a civil szervezetek is végig gondolják\, milyen kihívást jelent számukra a\nGDPR. Kell-e változtatni az eddigi adatkezelési gyakorlaton? Jobban kell-e\nügyelni az adatbiztonságra? Szükség van-e adatvédelmi szabályzatra és\nadatvédelmi tisztviselőre? Hogyan kell kezelni\, de még inkább megelőzni egy\nadatvédelmi incidenst?  \n\n\n\nAz\nadatkezelés és adatvédelem területén sok éves tapasztalattal rendelkező előadóink\nsegítségével igyekszünk gyakorlati tanácsokat adni a GDPR alkalmazásához.\nÁprilis 26-i rendezvényünkön részletesen foglalkozunk az adatvédelem\nalapfogalmaival\, az adatkezelés jogalapjaival\, valamint az adatkezelési és\nadatfeldolgozási megfelelés kihívásaival. \n\n\n\nAz\nadatvédelem szabályainak betartása minden adatkezelő\, így a civil szervezetek jogi\nkötelezettsége is. A rendezvényre olyan szervezetek munkatársait várjuk\, melyek\nnapi gyakorlatában kihívást jelent az adatbázis-kezelés. \n\n\n\nJelentkezz\nmég ma\, és tudd meg\, hogyan lehet szabályosan nyilvántartani és kezelni adományozóid\nés önkénteseid adatait! \n\n\n\nKikkel találkozhatsz?\n\n\n\n Előadók: dr. Szabó Endre Győző (a NAIH elnökhelyettese)\, dr. Freidler Gábor (adatvédelmi szakértő)\, Miha Tamás (civil kommunikációs szakértő)
URL:https://fundraisingakademia.hu/esemeny/az-adatkezeles-nem-jatek-gdpr-kihivasok-a-civil-szervezetek-gyakorlataban/
LOCATION:Mozsár Kávézó\, Nagymező u. 21.\, Budapest\, Budapest\, 1065\, Magyarország
ATTACH;FMTTYPE=image/jpeg:https://fundraisingakademia.hu/wp-content/uploads/2020/05/MFA_fb_post_gdpr1.jpg
ORGANIZER;CN="Magyar Fundraising Akad%C3%A9mia":MAILTO:info@fundraisingakademia.hu
END:VEVENT
BEGIN:VEVENT
DTSTART;TZID=Europe/Budapest:20180222T093000
DTEND;TZID=Europe/Budapest:20180222T130000
DTSTAMP:20260421T134615
CREATED:20200506T201209Z
LAST-MODIFIED:20200710T105657Z
UID:1887-1519291800-1519304400@fundraisingakademia.hu
SUMMARY:Vigyázz\, kész\, rajt! 1% újratöltve – Új kihívások és lehetőségek az 1% gyűjtésében - 2018
DESCRIPTION:2017-ben mintegy 8\nszázalékkal kevesebb szjá-t\, az előző évi 8\,5 milliárd helyett 7\,85\nmilliárdot ajánlottak fel a civil szervezetek javára az adófizetők\, nagyrészt  az új e-szja rendszer hozta változások\nkövetkezményeként.  Szeretnéd tudni pontosan\,\nhogy mi áll az erőteljes csökkenés hátterében\,\nmik a trend mögött megbújó részletek? Hatékony és eredményes 1%-os\nkampánytervet készítenél\, de nehezen igazodsz el a szabályozásokban? \n\n\n\nGyere el a február\n22-én „Vigyázz\, kész rajt! – 1%\nújratöltve” című előadásunkra\, hogy első kézből juss kézzelfogható tudáshoz\, amit azonnal beépíthetsz az idei 1%-os\nstratégiádba. \n\n\n\nAmiről szó lesz: \n\n\n\nelemezzük az új e-szja rendszer hatásait és az\nidei változásokatbemutatjuk a friss 1%-os listáttippeket adunk a civil szervezetek adó 1%-os\nbevételének növeléséhezismertetjük a Facebook kampányokat érintő\naktuális változásokat\,és a Google Grants használatának megszigorított\nfeltételeit.\n\n\n\n \n\n\n\nKikkel találkozhatsz?\n\n\n\nA téma szakértőit\, a civil szféra aktív szereplőit\, valamint kommunikációs szakembereket szólaltatunk meg. Ők osztják meg tapasztalataikat a civil finanszírozás e fontos területéről!  \n\n\n\nJelentkezz még ma\, és tudd meg\, hogyan mozgósíthatod az 1% felajánlókat!
URL:https://fundraisingakademia.hu/esemeny/vigyazz-kesz-rajt-1-ujratoltve-uj-kihivasok-es-lehetosegek-az-1-gyujteseben/
LOCATION:CEU\, Nádor utca 9.\, Budapest\, Budapest\, 1051\, Magyarország
ATTACH;FMTTYPE=image/jpeg:https://fundraisingakademia.hu/wp-content/uploads/2020/05/MG_2235.jpg
ORGANIZER;CN="Magyar Fundraising Akad%C3%A9mia":MAILTO:info@fundraisingakademia.hu
END:VEVENT
BEGIN:VEVENT
DTSTART;TZID=Europe/Budapest:20171108T090000
DTEND;TZID=Europe/Budapest:20171108T130000
DTSTAMP:20260421T134615
CREATED:20200513T120253Z
LAST-MODIFIED:20200701T075235Z
UID:2055-1510131600-1510146000@fundraisingakademia.hu
SUMMARY:Hol dől el az adakozás? - Új! Országos kutatás az adományozói motivációkról - 2017
DESCRIPTION:Mi a helyzet a pénzadományokkal? Kik\, milyen módon és mikor támogatnak szívesen egy civil szervezetet? Változtak az adományozói szokások az elmúlt években? Hogyan alkalmazzuk a megismert eredményeket kreatív anyagainkban? A kutatási eredmények tükrében hogyan érdemes felépítenünk adományszervezési tervüket? \n\n\n\nEzekre a kérdésekre kaphatsz választ 2017.11.08-án tartott „Hol dől el az adakozás?” rendezvényünkön. \n\n\n\nProgram: \n\n\n\n9:00–9:30 Előzmények és háttérElőadó: Miha Tamás\, civil kommunikációs szakértő \n\n\n\n9:30–10:15 A kutatás részleteiMódszertan: Steigervald Krisztián\, Emocionális Marketing\, ügyvezetőEredmények és következtetések: Dömötör Károly\, Human Dialog\, a kutatási projekt vezetője \n\n\n\n10:15–10:30 Kérdések \n\n\n\n10:30–11:00 Szünet \n\n\n\n11:00–11:30 Magyar és osztrák kutatási eredmények közös metszeteiElőadó: Lapinskas Ilona\, civil adományozási szakértő \n\n\n\n11:30–12:00 Így tervezzünk kreatívot a kutatás alapján!Előadó: Mécs Anna\, fundraising tartalomfejlesztő és szövegíró \n\n\n\n12:00–12:30  Az optimális fundraising mixElőadó: Miha Tamás \n\n\n\n12:30–13:00 Kérdések
URL:https://fundraisingakademia.hu/esemeny/hol-dol-el-az-adakozas-uj-orszagos-kutatas-az-adomanyozoi-motivaciokrol/
LOCATION:CEU\, October Hall\, Október 6. utca 7.\, Budapest\, 1051\, Magyarország
ATTACH;FMTTYPE=image/jpeg:https://fundraisingakademia.hu/wp-content/uploads/2020/05/MG_9574-scaled.jpg
END:VEVENT
BEGIN:VEVENT
DTSTART;TZID=Europe/Budapest:20171025T130000
DTEND;TZID=Europe/Budapest:20171025T170000
DTSTAMP:20260421T134615
CREATED:20200513T115554Z
LAST-MODIFIED:20200701T075314Z
UID:2050-1508936400-1508950800@fundraisingakademia.hu
SUMMARY:A posztolás már nem elég! – Nonprofit szervezetek Facebook-marketingje a gyakorlatban - 2017
DESCRIPTION:Rendszeresen készítetek kreatív tartalmat szervezeted Facebook-oldalára\, de azok nem hozzák a várt eredményeket? Hiába dolgoztok rajta\, mégsem vagytok láthatók az online térben? Netán hozzá sem mertetek fogni\, mert túl bonyolult a Facebook-menedzsment\, a hirdetési rendszerről már nem is beszélve? \n\n\n\nOktóber 25-ei szemináriumunkon kiemelkedő online kampányeredményeket elért Facebook-specialistánk segít abban\, hogy a legnépszerűbb közösségi médium felületét tudatosan és hatékonyan használhasd. \n\n\n\nNeked való prémium szemináriumunk\, ha érdekel \n\n\n\nhogyan lehet jól menedzselni szervezeted Facebook-oldalát;hogy melyik hirdetési forma segít elérni célodat;hogyan építsd fel a szervezeted hirdetési kampányait;mik a jó Facebook-hirdetés legfontosabb elemei;milyen gyakorlati technikákat érdemes beépíteni mindennapi munkádba. \n\n\n\nTréner: Dömötör Károly (online marketing szakértő)
URL:https://fundraisingakademia.hu/esemeny/a-posztolas-mar-nem-eleg-nonprofit-szervezetek-facebook-marketingje-a-gyakorlatban/
LOCATION:DocuArt Mozi\, Erkel utca\, Budapest\, Budapest\, 1092\, Magyarország
ATTACH;FMTTYPE=image/jpeg:https://fundraisingakademia.hu/wp-content/uploads/2020/05/breakfb.jpg
END:VEVENT
BEGIN:VEVENT
DTSTART;TZID=Europe/Budapest:20170927T130000
DTEND;TZID=Europe/Budapest:20170927T170000
DTSTAMP:20260421T134615
CREATED:20200513T114530Z
LAST-MODIFIED:20200701T075432Z
UID:2042-1506517200-1506531600@fundraisingakademia.hu
SUMMARY:Mit szabad és mit nem? – A civil jog és adománygyűjtés aktuális kihívásai - 2017
DESCRIPTION:Hogyan létesül egy civil szervezet? Hogyan szűnik meg? És a legfontosabb: hogyan működik mindeközben? Milyen határidőket kell betartania? Hogyan zajlik egy módosítási eljárás vagy éppen mi szükséges egy törvényes közgyűlés\, kuratóriumi ülés összehívásához? \n\n\n\nTarts velünk szeptember 27-ei jogi szemináriumunkon\, hogy választ kapj legfontosabb civil szervezetekkel kapcsolatos működési kérdéseidre! Képzésünkön az általános magánjogi\, civil jogi ismeretek bemutatása mellett szót ejtünk az önkéntesek foglalkoztatására és a külföldről támogatott szervezetekre vonatkozó jogszabályok elemzéséről. A kiscsoportos esemény a jelenlévő szervezetek igényeire szabottan elemzi a rájuk vonatkozó szabályozásokat\, miközben teret ad az egyedi esetek megbeszélésére is! \n\n\n\nElőadó: dr. Badacsonyi Zoltán (civil jogi szakértő)
URL:https://fundraisingakademia.hu/esemeny/mit-szabad-es-mit-nem-a-civil-jog-es-adomanygyujtes-aktualis-kihivasai/
LOCATION:DocuArt Mozi\, Erkel utca\, Budapest\, Budapest\, 1092\, Magyarország
END:VEVENT
END:VCALENDAR